{
 "currentVersion": 10.51,
 "serviceDescription": "Topographic map of NSW showing roads, points of interest, localities, landform, drainage, cultural data, parks & forests, property boundaries and street address numbers.",
 "mapName": "Layers",
 "description": "",
 "copyrightText": "© Department of Finance, Services & Innovation 2018",
 "supportsDynamicLayers": false,
 "layers": [
  {
   "id": 0,
   "name": "LPIMap",
   "parentLayerId": -1,
   "defaultVisibility": true,
   "subLayerIds": [
    1,
    2,
    3,
    4,
    5,
    6,
    7,
    8,
    75,
    76,
    9,
    10,
    11,
    12,
    13,
    14,
    15,
    16,
    17,
    18,
    19,
    20,
    21,
    22,
    23,
    24,
    25,
    26,
    27,
    28,
    29,
    30,
    31,
    32,
    33,
    34,
    35,
    36,
    37,
    38,
    39,
    40,
    41,
    42,
    43,
    44,
    45,
    46,
    47,
    48,
    49,
    50,
    51,
    52,
    53,
    54,
    55,
    56,
    57,
    58,
    59,
    60,
    61,
    62,
    63,
    64,
    65,
    66,
    67,
    68,
    69,
    70,
    71,
    72,
    73,
    74
   ],
   "minScale": 0,
   "maxScale": 0
  },
  {
   "id": 1,
   "name": "PlacePoint_LS",
   "parentLayerId": 0,
   "defaultVisibility": true,
   "subLayerIds": null,
   "minScale": 40000,
   "maxScale": 0
  },
  {
   "id": 2,
   "name": "PlacePoint_MS",
   "parentLayerId": 0,
   "defaultVisibility": true,
   "subLayerIds": null,
   "minScale": 300000,
   "maxScale": 40001
  },
  {
   "id": 3,
   "name": "PlacePoint_SS",
   "parentLayerId": 0,
   "defaultVisibility": true,
   "subLayerIds": null,
   "minScale": 1500000,
   "maxScale": 300001
  },
  {
   "id": 4,
   "name": "PlacePoint_MinorCentre",
   "parentLayerId": 0,
   "defaultVisibility": true,
   "subLayerIds": null,
   "minScale": 3000000,
   "maxScale": 1500001
  },
  {
   "id": 5,
   "name": "PlacePoint_MainCentre",
   "parentLayerId": 0,
   "defaultVisibility": true,
   "subLayerIds": null,
   "minScale": 10000000,
   "maxScale": 3000001
  },
  {
   "id": 6,
   "name": "PlacePoint_MajorCentre",
   "parentLayerId": 0,
   "defaultVisibility": true,
   "subLayerIds": null,
   "minScale": 40000000,
   "maxScale": 10000001
  },
  {
   "id": 7,
   "name": "PointOfInterest",
   "parentLayerId": 0,
   "defaultVisibility": true,
   "subLayerIds": null,
   "minScale": 150000,
   "maxScale": 0
  },
  {
   "id": 8,
   "name": "Tourism_Minor",
   "parentLayerId": 0,
   "defaultVisibility": true,
   "subLayerIds": null,
   "minScale": 75000,
   "maxScale": 0
  },
  {
   "id": 75,
   "name": "MainroadsUnderConstruction",
   "parentLayerId": 0,
   "defaultVisibility": true,
   "subLayerIds": null,
   "minScale": 1500000,
   "maxScale": 0
  },
  {
   "id": 76,
   "name": "LocalroadsUnderConstruction",
   "parentLayerId": 0,
   "defaultVisibility": true,
   "subLayerIds": null,
   "minScale": 80000,
   "maxScale": 0
  },
  {
   "id": 9,
   "name": "Suburb",
   "parentLayerId": 0,
   "defaultVisibility": true,
   "subLayerIds": null,
   "minScale": 20000,
   "maxScale": 0
  },
  {
   "id": 10,
   "name": "Bridge_Blockout",
   "parentLayerId": 0,
   "defaultVisibility": true,
   "subLayerIds": null,
   "minScale": 10000,
   "maxScale": 0
  },
  {
   "id": 11,
   "name": "Bridge_Ford_Names",
   "parentLayerId": 0,
   "defaultVisibility": true,
   "subLayerIds": null,
   "minScale": 10000,
   "maxScale": 0
  },
  {
   "id": 12,
   "name": "Roads_onbridge_LS",
   "parentLayerId": 0,
   "defaultVisibility": true,
   "subLayerIds": null,
   "minScale": 5000,
   "maxScale": 0
  },
  {
   "id": 13,
   "name": "Railway_onbridge_LS",
   "parentLayerId": 0,
   "defaultVisibility": true,
   "subLayerIds": null,
   "minScale": 5000,
   "maxScale": 0
  },
  {
   "id": 14,
   "name": "Gates_Grids",
   "parentLayerId": 0,
   "defaultVisibility": true,
   "subLayerIds": null,
   "minScale": 10000,
   "maxScale": 0
  },
  {
   "id": 15,
   "name": "Railway_onground_LS",
   "parentLayerId": 0,
   "defaultVisibility": true,
   "subLayerIds": null,
   "minScale": 5000,
   "maxScale": 0
  },
  {
   "id": 16,
   "name": "Roads_onground_LS",
   "parentLayerId": 0,
   "defaultVisibility": true,
   "subLayerIds": null,
   "minScale": 5000,
   "maxScale": 0
  },
  {
   "id": 17,
   "name": "Roads_intunnel_LS",
   "parentLayerId": 0,
   "defaultVisibility": true,
   "subLayerIds": null,
   "minScale": 5000,
   "maxScale": 0
  },
  {
   "id": 18,
   "name": "Railway_intunnel_LS",
   "parentLayerId": 0,
   "defaultVisibility": true,
   "subLayerIds": null,
   "minScale": 5000,
   "maxScale": 0
  },
  {
   "id": 19,
   "name": "Caves_Pinnacles",
   "parentLayerId": 0,
   "defaultVisibility": true,
   "subLayerIds": null,
   "minScale": 75000,
   "maxScale": 0
  },
  {
   "id": 20,
   "name": "RelativeHeight",
   "parentLayerId": 0,
   "defaultVisibility": true,
   "subLayerIds": null,
   "minScale": 20000,
   "maxScale": 0
  },
  {
   "id": 21,
   "name": "CliffTop_Levee",
   "parentLayerId": 0,
   "defaultVisibility": true,
   "subLayerIds": null,
   "minScale": 75000,
   "maxScale": 0
  },
  {
   "id": 22,
   "name": "Dwellings_Buildings",
   "parentLayerId": 0,
   "defaultVisibility": true,
   "subLayerIds": null,
   "minScale": 10000,
   "maxScale": 0
  },
  {
   "id": 23,
   "name": "Homestead_Tourism_Major",
   "parentLayerId": 0,
   "defaultVisibility": true,
   "subLayerIds": null,
   "minScale": 40000,
   "maxScale": 0
  },
  {
   "id": 24,
   "name": "Beacon_Tower",
   "parentLayerId": 0,
   "defaultVisibility": true,
   "subLayerIds": null,
   "minScale": 20000,
   "maxScale": 0
  },
  {
   "id": 25,
   "name": "Airport_Station",
   "parentLayerId": 0,
   "defaultVisibility": true,
   "subLayerIds": null,
   "minScale": 300000,
   "maxScale": 3001
  },
  {
   "id": 26,
   "name": "Railway_MS",
   "parentLayerId": 0,
   "defaultVisibility": true,
   "subLayerIds": null,
   "minScale": 75000,
   "maxScale": 5001
  },
  {
   "id": 27,
   "name": "Railway_intunnel_MS",
   "parentLayerId": 0,
   "defaultVisibility": true,
   "subLayerIds": null,
   "minScale": 75000,
   "maxScale": 5001
  },
  {
   "id": 28,
   "name": "Roads_Urban_MS",
   "parentLayerId": 0,
   "defaultVisibility": true,
   "subLayerIds": null,
   "minScale": 40000,
   "maxScale": 5001
  },
  {
   "id": 29,
   "name": "Roads_Rural_MS",
   "parentLayerId": 0,
   "defaultVisibility": true,
   "subLayerIds": null,
   "minScale": 75000,
   "maxScale": 40001
  },
  {
   "id": 30,
   "name": "Roads_intunnel_MS",
   "parentLayerId": 0,
   "defaultVisibility": true,
   "subLayerIds": null,
   "minScale": 75000,
   "maxScale": 5001
  },
  {
   "id": 31,
   "name": "Waterfalls_springs",
   "parentLayerId": 0,
   "defaultVisibility": true,
   "subLayerIds": null,
   "minScale": 80000,
   "maxScale": 5001
  },
  {
   "id": 32,
   "name": "Bores",
   "parentLayerId": 0,
   "defaultVisibility": true,
   "subLayerIds": null,
   "minScale": 300000,
   "maxScale": 5001
  },
  {
   "id": 33,
   "name": "Mountains",
   "parentLayerId": 0,
   "defaultVisibility": true,
   "subLayerIds": null,
   "minScale": 1500000,
   "maxScale": 80001
  },
  {
   "id": 34,
   "name": "Wharfs_Ramps",
   "parentLayerId": 0,
   "defaultVisibility": true,
   "subLayerIds": null,
   "minScale": 20000,
   "maxScale": 0
  },
  {
   "id": 35,
   "name": "Damwall_Racetrack",
   "parentLayerId": 0,
   "defaultVisibility": true,
   "subLayerIds": null,
   "minScale": 20000,
   "maxScale": 0
  },
  {
   "id": 36,
   "name": "Dams_Large",
   "parentLayerId": 0,
   "defaultVisibility": true,
   "subLayerIds": null,
   "minScale": 75000,
   "maxScale": 20001
  },
  {
   "id": 37,
   "name": "Cliffs_Reefs_Mangroves",
   "parentLayerId": 0,
   "defaultVisibility": true,
   "subLayerIds": null,
   "minScale": 75000,
   "maxScale": 0
  },
  {
   "id": 38,
   "name": "Ridge_Beach",
   "parentLayerId": 0,
   "defaultVisibility": true,
   "subLayerIds": null,
   "minScale": 80000,
   "maxScale": 0
  },
  {
   "id": 39,
   "name": "SpotHeight",
   "parentLayerId": 0,
   "defaultVisibility": true,
   "subLayerIds": null,
   "minScale": 5000,
   "maxScale": 0
  },
  {
   "id": 40,
   "name": "Runway",
   "parentLayerId": 0,
   "defaultVisibility": true,
   "subLayerIds": null,
   "minScale": 75000,
   "maxScale": 0
  },
  {
   "id": 41,
   "name": "EmergencyFacility",
   "parentLayerId": 0,
   "defaultVisibility": true,
   "subLayerIds": null,
   "minScale": 300000,
   "maxScale": 40001
  },
  {
   "id": 42,
   "name": "Railway_SS",
   "parentLayerId": 0,
   "defaultVisibility": true,
   "subLayerIds": null,
   "minScale": 1200000,
   "maxScale": 75001
  },
  {
   "id": 43,
   "name": "Roads_Secondary",
   "parentLayerId": 0,
   "defaultVisibility": true,
   "subLayerIds": null,
   "minScale": 1200000,
   "maxScale": 75001
  },
  {
   "id": 44,
   "name": "Highways",
   "parentLayerId": 0,
   "defaultVisibility": true,
   "subLayerIds": null,
   "minScale": 47000000,
   "maxScale": 3000001
  },
  {
   "id": 45,
   "name": "Oceans_Bays",
   "parentLayerId": 0,
   "defaultVisibility": true,
   "subLayerIds": null,
   "minScale": 40000000,
   "maxScale": 0
  },
  {
   "id": 46,
   "name": "HydroArea",
   "parentLayerId": 0,
   "defaultVisibility": true,
   "subLayerIds": null,
   "minScale": 75000,
   "maxScale": 0
  },
  {
   "id": 47,
   "name": "StockDams",
   "parentLayerId": 0,
   "defaultVisibility": true,
   "subLayerIds": null,
   "minScale": 20000,
   "maxScale": 0
  },
  {
   "id": 48,
   "name": "Creek_Named",
   "parentLayerId": 0,
   "defaultVisibility": true,
   "subLayerIds": null,
   "minScale": 20000,
   "maxScale": 0
  },
  {
   "id": 49,
   "name": "Creek_Unnamed",
   "parentLayerId": 0,
   "defaultVisibility": true,
   "subLayerIds": null,
   "minScale": 20000,
   "maxScale": 0
  },
  {
   "id": 50,
   "name": "HydroArea_Main",
   "parentLayerId": 0,
   "defaultVisibility": true,
   "subLayerIds": null,
   "minScale": 300000,
   "maxScale": 75001
  },
  {
   "id": 51,
   "name": "Stream_Names",
   "parentLayerId": 0,
   "defaultVisibility": true,
   "subLayerIds": null,
   "minScale": 75000,
   "maxScale": 0
  },
  {
   "id": 52,
   "name": "Stream_Named",
   "parentLayerId": 0,
   "defaultVisibility": true,
   "subLayerIds": null,
   "minScale": 75000,
   "maxScale": 0
  },
  {
   "id": 53,
   "name": "Stream_Unnamed",
   "parentLayerId": 0,
   "defaultVisibility": true,
   "subLayerIds": null,
   "minScale": 75000,
   "maxScale": 0
  },
  {
   "id": 54,
   "name": "Swamps_LSI",
   "parentLayerId": 0,
   "defaultVisibility": true,
   "subLayerIds": null,
   "minScale": 1500000,
   "maxScale": 0
  },
  {
   "id": 55,
   "name": "Roads_Primary",
   "parentLayerId": 0,
   "defaultVisibility": true,
   "subLayerIds": null,
   "minScale": 3000000,
   "maxScale": 1500001
  },
  {
   "id": 56,
   "name": "HydroArea_Large",
   "parentLayerId": 0,
   "defaultVisibility": true,
   "subLayerIds": null,
   "minScale": 1500000,
   "maxScale": 300001
  },
  {
   "id": 57,
   "name": "Lakes_Major",
   "parentLayerId": 0,
   "defaultVisibility": true,
   "subLayerIds": null,
   "minScale": 40000000,
   "maxScale": 1500001
  },
  {
   "id": 58,
   "name": "River_Names",
   "parentLayerId": 0,
   "defaultVisibility": true,
   "subLayerIds": null,
   "minScale": 1200000,
   "maxScale": 75001
  },
  {
   "id": 59,
   "name": "Stream_Main",
   "parentLayerId": 0,
   "defaultVisibility": true,
   "subLayerIds": null,
   "minScale": 300000,
   "maxScale": 0
  },
  {
   "id": 60,
   "name": "River_Main",
   "parentLayerId": 0,
   "defaultVisibility": true,
   "subLayerIds": null,
   "minScale": 1200000,
   "maxScale": 0
  },
  {
   "id": 61,
   "name": "River_Major",
   "parentLayerId": 0,
   "defaultVisibility": true,
   "subLayerIds": null,
   "minScale": 0,
   "maxScale": 0
  },
  {
   "id": 62,
   "name": "State_Border",
   "parentLayerId": 0,
   "defaultVisibility": true,
   "subLayerIds": null,
   "minScale": 0,
   "maxScale": 0
  },
  {
   "id": 63,
   "name": "Property",
   "parentLayerId": 0,
   "defaultVisibility": true,
   "subLayerIds": null,
   "minScale": 20000,
   "maxScale": 0
  },
  {
   "id": 64,
   "name": "Property_Rural",
   "parentLayerId": 0,
   "defaultVisibility": true,
   "subLayerIds": null,
   "minScale": 80000,
   "maxScale": 20001
  },
  {
   "id": 65,
   "name": "Lot",
   "parentLayerId": 0,
   "defaultVisibility": true,
   "subLayerIds": null,
   "minScale": 10000,
   "maxScale": 0
  },
  {
   "id": 66,
   "name": "Building_Large",
   "parentLayerId": 0,
   "defaultVisibility": true,
   "subLayerIds": null,
   "minScale": 10000,
   "maxScale": 0
  },
  {
   "id": 67,
   "name": "CrownParks",
   "parentLayerId": 0,
   "defaultVisibility": true,
   "subLayerIds": null,
   "minScale": 75000,
   "maxScale": 0
  },
  {
   "id": 68,
   "name": "Urban",
   "parentLayerId": 0,
   "defaultVisibility": true,
   "subLayerIds": null,
   "minScale": 300000,
   "maxScale": 0
  },
  {
   "id": 69,
   "name": "Contour_10m",
   "parentLayerId": 0,
   "defaultVisibility": true,
   "subLayerIds": null,
   "minScale": 10000,
   "maxScale": 0
  },
  {
   "id": 70,
   "name": "Contour_20m",
   "parentLayerId": 0,
   "defaultVisibility": true,
   "subLayerIds": null,
   "minScale": 40000,
   "maxScale": 10001
  },
  {
   "id": 71,
   "name": "Contour_50m",
   "parentLayerId": 0,
   "defaultVisibility": true,
   "subLayerIds": null,
   "minScale": 150000,
   "maxScale": 40001
  },
  {
   "id": 72,
   "name": "StateForest",
   "parentLayerId": 0,
   "defaultVisibility": true,
   "subLayerIds": null,
   "minScale": 75000,
   "maxScale": 0
  },
  {
   "id": 73,
   "name": "NPWSReserve",
   "parentLayerId": 0,
   "defaultVisibility": true,
   "subLayerIds": null,
   "minScale": 0,
   "maxScale": 0
  },
  {
   "id": 74,
   "name": "Hillshade",
   "parentLayerId": 0,
   "defaultVisibility": true,
   "subLayerIds": null,
   "minScale": 3000000,
   "maxScale": 0
  }
 ],
 "tables": [],
 "spatialReference": {
  "wkid": 102100,
  "latestWkid": 3857
 },
 "singleFusedMapCache": true,
 "tileInfo": {
  "rows": 256,
  "cols": 256,
  "dpi": 96,
  "format": "PNG32",
  "compressionQuality": 0,
  "origin": {
   "x": -2.0037508342787E7,
   "y": 2.0037508342787E7
  },
  "spatialReference": {
   "wkid": 102100,
   "latestWkid": 3857
  },
  "lods": [
   {
    "level": 0,
    "resolution": 156543.03392800014,
    "scale": 5.91657527591555E8
   },
   {
    "level": 1,
    "resolution": 78271.51696399994,
    "scale": 2.95828763795777E8
   },
   {
    "level": 2,
    "resolution": 39135.75848200009,
    "scale": 1.47914381897889E8
   },
   {
    "level": 3,
    "resolution": 19567.87924099992,
    "scale": 7.3957190948944E7
   },
   {
    "level": 4,
    "resolution": 9783.93962049996,
    "scale": 3.6978595474472E7
   },
   {
    "level": 5,
    "resolution": 4891.96981024998,
    "scale": 1.8489297737236E7
   },
   {
    "level": 6,
    "resolution": 2445.98490512499,
    "scale": 9244648.868618
   },
   {
    "level": 7,
    "resolution": 1222.992452562495,
    "scale": 4622324.434309
   },
   {
    "level": 8,
    "resolution": 611.4962262813797,
    "scale": 2311162.217155
   },
   {
    "level": 9,
    "resolution": 305.74811314055756,
    "scale": 1155581.108577
   },
   {
    "level": 10,
    "resolution": 152.87405657041106,
    "scale": 577790.554289
   },
   {
    "level": 11,
    "resolution": 76.43702828507324,
    "scale": 288895.277144
   },
   {
    "level": 12,
    "resolution": 38.21851414253662,
    "scale": 144447.638572
   },
   {
    "level": 13,
    "resolution": 19.10925707126831,
    "scale": 72223.819286
   },
   {
    "level": 14,
    "resolution": 9.554628535634155,
    "scale": 36111.909643
   },
   {
    "level": 15,
    "resolution": 4.77731426794937,
    "scale": 18055.954822
   },
   {
    "level": 16,
    "resolution": 2.388657133974685,
    "scale": 9027.977411
   },
   {
    "level": 17,
    "resolution": 1.1943285668550503,
    "scale": 4513.988705
   },
   {
    "level": 18,
    "resolution": 0.5971642835598172,
    "scale": 2256.994353
   },
   {
    "level": 19,
    "resolution": 0.29858214164761665,
    "scale": 1128.497176
   },
   {
    "level": 20,
    "resolution": 0.14929107082380833,
    "scale": 564.248588
   },
   {
    "level": 21,
    "resolution": 0.07464553541190416,
    "scale": 282.124294
   }
  ]
 },
 "initialExtent": {
  "xmin": 1.5070953593190225E7,
  "ymin": -4100645.2222411428,
  "xmax": 1.876928276973921E7,
  "ymax": -2351766.015076775,
  "spatialReference": {
   "wkid": 102100,
   "latestWkid": 3857
  }
 },
 "fullExtent": {
  "xmin": 1.56925626571E7,
  "ymin": -4558257.460700002,
  "xmax": 1.77554476493E7,
  "ymax": -3211203.033300001,
  "spatialReference": {
   "wkid": 102100,
   "latestWkid": 3857
  }
 },
 "minScale": 5.91657527591555E8,
 "maxScale": 282.124294,
 "units": "esriMeters",
 "supportedImageFormatTypes": "PNG32,PNG24,PNG,JPG,DIB,TIFF,EMF,PS,PDF,GIF,SVG,SVGZ,BMP",
 "documentInfo": {
  "Title": "LPI NSW Map",
  "Author": "DFSI Spatial Services NSW",
  "Comments": "Topographic map of NSW showing roads, points of interest, localities, landform, drainage, cultural data, parks & forests, property boundaries and street address numbers.",
  "Subject": "LPI Map web mercator map service map document.",
  "Category": "",
  "AntialiasingMode": "None",
  "TextAntialiasingMode": "Force",
  "Keywords": "DFSI"
 },
 "capabilities": "Data,Map,Query",
 "supportedQueryFormats": "JSON, AMF, geoJSON",
 "exportTilesAllowed": false,
 "datumTransformations": [
  {
   "geoTransforms": [
    {
     "wkid": 108001,
     "latestWkid": 1241,
     "transformForward": true,
     "name": "NAD_1927_To_NAD_1983_NADCON"
    }
   ]
  },
  {
   "geoTransforms": [
    {
     "wkid": 108001,
     "latestWkid": 1241,
     "transformForward": false,
     "name": "NAD_1927_To_NAD_1983_NADCON"
    }
   ]
  },
  {
   "geoTransforms": [
    {
     "wkid": 8050,
     "latestWkid": 1150,
     "transformForward": true,
     "name": "GDA_1994_To_WGS_1984"
    }
   ]
  },
  {
   "geoTransforms": [
    {
     "wkid": 8050,
     "latestWkid": 1150,
     "transformForward": false,
     "name": "GDA_1994_To_WGS_1984"
    }
   ]
  }
 ],
 "supportsDatumTransformation": true,
 "maxRecordCount": 1000,
 "maxImageHeight": 4096,
 "maxImageWidth": 4096,
 "supportedExtensions": "KmlServer, WMSServer",
 "resampling": true
}
