<?xml version="1.0" encoding="UTF-8" standalone="no"?>
<metadata xml:lang="en">
<Esri>
<CreaDate>20190211</CreaDate>
<CreaTime>12235500</CreaTime>
<ArcGISFormat>1.0</ArcGISFormat>
<SyncOnce>FALSE</SyncOnce>
<DataProperties>
<itemProps>
<itemName Sync="TRUE">Best_WebM_ID</itemName>
<nativeExtBox>
<westBL Sync="TRUE">15300000.000000</westBL>
<eastBL Sync="TRUE">17810000.000000</eastBL>
<southBL Sync="TRUE">-5070000.000000</southBL>
<northBL Sync="TRUE">-2950000.000000</northBL>
<exTypeCode Sync="TRUE">1</exTypeCode>
</nativeExtBox>
</itemProps>
<coordRef>
<type Sync="TRUE">Projected</type>
<geogcsn Sync="TRUE">GCS_WGS_1984</geogcsn>
<projcsn Sync="TRUE">WGS_1984_Web_Mercator_Auxiliary_Sphere</projcsn>
<peXml Sync="TRUE">&lt;ProjectedCoordinateSystem xsi:type='typens:ProjectedCoordinateSystem' xmlns:xsi='http://www.w3.org/2001/XMLSchema-instance' xmlns:xs='http://www.w3.org/2001/XMLSchema' xmlns:typens='http://www.esri.com/schemas/ArcGIS/2.2.0'&gt;&lt;WKT&gt;PROJCS[&amp;quot;WGS_1984_Web_Mercator_Auxiliary_Sphere&amp;quot;,GEOGCS[&amp;quot;GCS_WGS_1984&amp;quot;,DATUM[&amp;quot;D_WGS_1984&amp;quot;,SPHEROID[&amp;quot;WGS_1984&amp;quot;,6378137.0,298.257223563]],PRIMEM[&amp;quot;Greenwich&amp;quot;,0.0],UNIT[&amp;quot;Degree&amp;quot;,0.0174532925199433]],PROJECTION[&amp;quot;Mercator_Auxiliary_Sphere&amp;quot;],PARAMETER[&amp;quot;False_Easting&amp;quot;,0.0],PARAMETER[&amp;quot;False_Northing&amp;quot;,0.0],PARAMETER[&amp;quot;Central_Meridian&amp;quot;,0.0],PARAMETER[&amp;quot;Standard_Parallel_1&amp;quot;,0.0],PARAMETER[&amp;quot;Auxiliary_Sphere_Type&amp;quot;,0.0],UNIT[&amp;quot;Meter&amp;quot;,1.0],AUTHORITY[&amp;quot;EPSG&amp;quot;,3857]]&lt;/WKT&gt;&lt;XOrigin&gt;-20037700&lt;/XOrigin&gt;&lt;YOrigin&gt;-30241100&lt;/YOrigin&gt;&lt;XYScale&gt;148923141.92838538&lt;/XYScale&gt;&lt;ZOrigin&gt;-100000&lt;/ZOrigin&gt;&lt;ZScale&gt;10000&lt;/ZScale&gt;&lt;MOrigin&gt;-100000&lt;/MOrigin&gt;&lt;MScale&gt;10000&lt;/MScale&gt;&lt;XYTolerance&gt;0.001&lt;/XYTolerance&gt;&lt;ZTolerance&gt;0.001&lt;/ZTolerance&gt;&lt;MTolerance&gt;0.001&lt;/MTolerance&gt;&lt;HighPrecision&gt;true&lt;/HighPrecision&gt;&lt;WKID&gt;102100&lt;/WKID&gt;&lt;LatestWKID&gt;3857&lt;/LatestWKID&gt;&lt;/ProjectedCoordinateSystem&gt;</peXml>
<csUnits Sync="TRUE">Linear Unit: Meter (1.000000)</csUnits>
</coordRef>
<RasterProperties>
<General>
<PixelDepth Sync="TRUE">8</PixelDepth>
<HasColormap Sync="TRUE">FALSE</HasColormap>
<CompressionType Sync="TRUE">None</CompressionType>
<NumBands Sync="TRUE">3</NumBands>
<Format Sync="TRUE">AMD</Format>
<HasPyramids Sync="TRUE">TRUE</HasPyramids>
<SourceType Sync="TRUE">continuous</SourceType>
<PixelType Sync="TRUE">unsigned integer</PixelType>
<NoDataValue Sync="TRUE">
</NoDataValue>
</General>
<Properties>
<MaxImageHeight Sync="TRUE">4100</MaxImageHeight>
<MaxImageWidth Sync="TRUE">15000</MaxImageWidth>
<MaxRecordCount Sync="TRUE">10000000</MaxRecordCount>
<MaxDownloadImageCount Sync="TRUE">0</MaxDownloadImageCount>
<MaxMosaicImageCount Sync="TRUE">1000</MaxMosaicImageCount>
<DefaultCompressionQuality Sync="TRUE">75</DefaultCompressionQuality>
<ViewpointSpacingX Sync="TRUE">600</ViewpointSpacingX>
<ViewpointSpacingY Sync="TRUE">300</ViewpointSpacingY>
<AllowedItemMetadata Sync="TRUE">Full</AllowedItemMetadata>
<DefaultResamplingMethod Sync="TRUE">1</DefaultResamplingMethod>
<AllowedMosaicMethods Sync="TRUE">ByAttribute</AllowedMosaicMethods>
<AllowedCompressions Sync="TRUE">JPEG</AllowedCompressions>
<AvailableMosaicMethods Sync="TRUE">NorthWest,Center,LockRaster,ByAttribute,Nadir,Viewpoint,Seamline,None</AvailableMosaicMethods>
<AvailableCompressionMethods Sync="TRUE">None,JPEG,LZ77,LERC</AvailableCompressionMethods>
<AvailableItemMetadataLevels Sync="TRUE">None,Basic,Full</AvailableItemMetadataLevels>
<ConfigKeyword Sync="TRUE">
</ConfigKeyword>
<AllowedFields Sync="TRUE">Name,MinPS,MaxPS,BlockName,BlockType,BlockStartDate,BlockEndDate,BestByResDate,BlockID,BandTypes,MosaicStartDate,MosaicEndDate</AllowedFields>
<ApplyColorCorrection Sync="TRUE">0</ApplyColorCorrection>
<TimeValueFormat Sync="TRUE">
</TimeValueFormat>
<EndTimeFieldName Sync="TRUE">
</EndTimeFieldName>
<StartTimeFieldName Sync="TRUE">
</StartTimeFieldName>
<MosaicOperator Sync="TRUE">6</MosaicOperator>
<UseTime Sync="TRUE">0</UseTime>
<SortAscending Sync="TRUE">-1</SortAscending>
<ClipToFootprint Sync="TRUE">-1</ClipToFootprint>
<DataType Sync="TRUE">Processed</DataType>
<SortField Sync="TRUE">BestByResDate</SortField>
<SortValue Sync="TRUE">0</SortValue>
<LowCellSize Sync="TRUE">0</LowCellSize>
<HighCellSize Sync="TRUE">300000</HighCellSize>
<MaxCellSize Sync="TRUE">300000</MaxCellSize>
<AllowedMensurationCapabilities Sync="TRUE">Basic</AllowedMensurationCapabilities>
<TimeIntervalUnits Sync="TRUE">
</TimeIntervalUnits>
<TimeInterval Sync="TRUE">
</TimeInterval>
<MaxDownloadSizeLimit Sync="TRUE">2048</MaxDownloadSizeLimit>
<MinimumPixelContribution Sync="TRUE">1</MinimumPixelContribution>
<CellSizeTolerance Sync="TRUE">0.8</CellSizeTolerance>
<BlendWidth Sync="TRUE">100</BlendWidth>
<BlendWidthUnits Sync="TRUE">1</BlendWidthUnits>
<FootprintMayContainNoData Sync="TRUE">-1</FootprintMayContainNoData>
<ClipToBoundary Sync="TRUE">-1</ClipToBoundary>
<DefaultCompressionTolerance Sync="TRUE">0.01</DefaultCompressionTolerance>
<VerticalDimension Sync="TRUE">
</VerticalDimension>
<FlowDirection Sync="TRUE">
</FlowDirection>
<TimeStamp.RemoveItems Sync="TRUE">43451.9827292361</TimeStamp.RemoveItems>
<TimeStamp.UpdateExtent Sync="TRUE">43451.9832404745</TimeStamp.UpdateExtent>
</Properties>
<Functions Sync="TRUE">
<Function Description="Perform on-the-fly mosaic on a raster catalog." Name="Mosaic Function">
</Function>
</Functions>
</RasterProperties>
</DataProperties>
<SyncDate>20190213</SyncDate>
<SyncTime>09452500</SyncTime>
<ModDate>20190213</ModDate>
<ModTime>09452500</ModTime>
</Esri>
<dataIdInfo>
<envirDesc Sync="FALSE">Esri ArcGIS 12.2.1.12813</envirDesc>
<dataLang>
<languageCode country="AUS" value="eng">
</languageCode>
<countryCode Sync="TRUE" value="AUS">
</countryCode>
</dataLang>
<idCitation>
<resTitle Sync="TRUE">Best_WebM_ID</resTitle>
<presForm>
<PresFormCd value="005">
</PresFormCd>
</presForm>
</idCitation>
<spatRpType>
<SpatRepTypCd value="002">
</SpatRepTypCd>
</spatRpType>
<dataExt>
<geoEle>
<GeoBndBox esriExtentType="search">
<westBL Sync="TRUE">137.442238</westBL>
<eastBL Sync="TRUE">159.989952</eastBL>
<northBL Sync="TRUE">-25.603054</northBL>
<southBL Sync="TRUE">-41.389745</southBL>
<exTypeCode Sync="TRUE">1</exTypeCode>
</GeoBndBox>
</geoEle>
</dataExt>
<idAbs>This Image Service is published to allow the identify function forImagery to respond correctly.This service is not used for Imagery visualisation as Images do not blend with each other and some Images will not show due to using the ECW format.</idAbs>
<searchKeys>
<keyword>Imagery</keyword>
<keyword>Identify</keyword>
</searchKeys>
<idPurp>NSW Imagery Service to enable an Identify for SIX Maps</idPurp>
<idCredit/>
<resConst>
<Consts>
<useLimit/>
</Consts>
</resConst>
</dataIdInfo>
<mdLang>
<languageCode value="eng">
</languageCode>
<countryCode Sync="TRUE" value="AUS">
</countryCode>
</mdLang>
<mdChar>
<CharSetCd value="004">
</CharSetCd>
</mdChar>
<refSysInfo>
<RefSystem>
<refSysID>
<identCode code="3857">
</identCode>
<idCodeSpace Sync="TRUE">EPSG</idCodeSpace>
<idVersion Sync="TRUE">8.8(9.3.1.2)</idVersion>
</refSysID>
</RefSystem>
</refSysInfo>
<spatRepInfo>
<Georect>
<cellGeo>
<CellGeoCd Sync="TRUE" value="002">
</CellGeoCd>
</cellGeo>
<numDims Sync="TRUE">2</numDims>
<tranParaAv Sync="TRUE">1</tranParaAv>
<chkPtAv Sync="TRUE">0</chkPtAv>
<cornerPts>
<pos Sync="TRUE">15300000.000000 -5070000.000000</pos>
</cornerPts>
<cornerPts>
<pos Sync="TRUE">15300000.000000 -2950000.000000</pos>
</cornerPts>
<cornerPts>
<pos Sync="TRUE">17810000.000000 -2950000.000000</pos>
</cornerPts>
<cornerPts>
<pos Sync="TRUE">17810000.000000 -5070000.000000</pos>
</cornerPts>
<centerPt>
<pos Sync="TRUE">16555000.000000 -4010000.000000</pos>
</centerPt>
<axisDimension type="002">
<dimSize Sync="TRUE">50200000</dimSize>
<dimResol>
<value Sync="TRUE" uom="m">0.050000</value>
</dimResol>
</axisDimension>
<axisDimension type="001">
<dimSize Sync="TRUE">42400000</dimSize>
<dimResol>
<value Sync="TRUE" uom="m">0.050000</value>
</dimResol>
</axisDimension>
<ptInPixel>
<PixOrientCd Sync="TRUE" value="001">
</PixOrientCd>
</ptInPixel>
</Georect>
</spatRepInfo>
<contInfo>
<ImgDesc>
<contentTyp>
<ContentTypCd Sync="TRUE" value="001">
</ContentTypCd>
</contentTyp>
<covDim>
<Band>
<dimDescrp Sync="TRUE">Band_1</dimDescrp>
<bitsPerVal Sync="TRUE">8</bitsPerVal>
<valUnit>
<UOM type="length">
<unitSymbol Sync="TRUE">Meter</unitSymbol>
</UOM>
</valUnit>
</Band>
<Band>
<dimDescrp Sync="TRUE">Band_2</dimDescrp>
<bitsPerVal Sync="TRUE">8</bitsPerVal>
<valUnit>
<UOM type="length">
<unitSymbol Sync="TRUE">Meter</unitSymbol>
</UOM>
</valUnit>
</Band>
<Band>
<dimDescrp Sync="TRUE">Band_3</dimDescrp>
<bitsPerVal Sync="TRUE">8</bitsPerVal>
<valUnit>
<UOM type="length">
<unitSymbol Sync="TRUE">Meter</unitSymbol>
</UOM>
</valUnit>
</Band>
</covDim>
</ImgDesc>
</contInfo>
<mdDateSt Sync="TRUE">20190213</mdDateSt>
</metadata>
