{
 "currentVersion": 10.51,
 "serviceDescription": "This Image Service is published to allow the identify function forImagery to respond correctly.This service is not used for Imagery visualisation as Images do not blend with each other and some Images will not show due to using the ECW format.",
 "name": "Imagery/Best_By_Res_Date",
 "description": "This Image Service is published to allow the identify function forImagery to respond correctly.This service is not used for Imagery visualisation as Images do not blend with each other and some Images will not show due to using the ECW format.",
 "extent": {
  "xmin": 1.56804174085E7,
  "ymin": -4514304.0702,
  "xmax": 1.77320758585E7,
  "ymax": -3259700.6202,
  "spatialReference": {
   "wkid": 102100,
   "latestWkid": 3857
  }
 },
 "initialExtent": {
  "xmin": 1.56804174085E7,
  "ymin": -4514304.0702,
  "xmax": 1.77320758585E7,
  "ymax": -3259700.6202,
  "spatialReference": {
   "wkid": 102100,
   "latestWkid": 3857
  }
 },
 "fullExtent": {
  "xmin": 1.56804174085E7,
  "ymin": -4514304.0702,
  "xmax": 1.77320758585E7,
  "ymax": -3259700.6202,
  "spatialReference": {
   "wkid": 102100,
   "latestWkid": 3857
  }
 },
 "heightModelInfo": {
  "heightModel": "orthometric",
  "heightUnit": "meter"
 },
 "pixelSizeX": 0.04999999999999998,
 "pixelSizeY": 0.05000000000000001,
 "bandCount": 3,
 "pixelType": "U8",
 "minPixelSize": 0,
 "maxPixelSize": 0,
 "copyrightText": "",
 "serviceDataType": "esriImageServiceDataTypeProcessed",
 "minValues": [],
 "maxValues": [],
 "meanValues": [],
 "stdvValues": [],
 "objectIdField": "OBJECTID",
 "fields": [
  {
   "name": "OBJECTID",
   "type": "esriFieldTypeOID",
   "alias": "OBJECTID",
   "domain": null
  },
  {
   "name": "Shape",
   "type": "esriFieldTypeGeometry",
   "alias": "Shape",
   "domain": null
  },
  {
   "name": "Name",
   "type": "esriFieldTypeString",
   "alias": "Name",
   "domain": null,
   "length": 50
  },
  {
   "name": "MinPS",
   "type": "esriFieldTypeDouble",
   "alias": "MinPS",
   "domain": null
  },
  {
   "name": "MaxPS",
   "type": "esriFieldTypeDouble",
   "alias": "MaxPS",
   "domain": null
  },
  {
   "name": "Category",
   "type": "esriFieldTypeInteger",
   "alias": "Category",
   "domain": null
  },
  {
   "name": "BlockName",
   "type": "esriFieldTypeString",
   "alias": "BlockName",
   "domain": null,
   "length": 50
  },
  {
   "name": "BlockType",
   "type": "esriFieldTypeString",
   "alias": "BlockType",
   "domain": null,
   "length": 50
  },
  {
   "name": "BlockStartDate",
   "type": "esriFieldTypeDate",
   "alias": "BlockStartDate",
   "domain": null,
   "length": 8
  },
  {
   "name": "BlockEndDate",
   "type": "esriFieldTypeDate",
   "alias": "BlockEndDate",
   "domain": null,
   "length": 8
  },
  {
   "name": "BestByResDate",
   "type": "esriFieldTypeInteger",
   "alias": "BestByResDate",
   "domain": null
  },
  {
   "name": "BlockID",
   "type": "esriFieldTypeString",
   "alias": "BlockID",
   "domain": null,
   "length": 80
  },
  {
   "name": "BandTypes",
   "type": "esriFieldTypeString",
   "alias": "BandTypes",
   "domain": null,
   "length": 20
  },
  {
   "name": "MosaicStartDate",
   "type": "esriFieldTypeDate",
   "alias": "MosaicStartDate",
   "domain": null,
   "length": 8
  },
  {
   "name": "MosaicEndDate",
   "type": "esriFieldTypeDate",
   "alias": "MosaicEndDate",
   "domain": null,
   "length": 8
  }
 ],
 "capabilities": "Catalog,Mensuration,Image,Metadata",
 "defaultMosaicMethod": "ByAttribute",
 "allowedMosaicMethods": "ByAttribute",
 "sortField": "BestByResDate",
 "sortValue": "0",
 "mosaicOperator": "First",
 "maxDownloadSizeLimit": 2048,
 "defaultCompressionQuality": 75,
 "defaultResamplingMethod": "Bilinear",
 "maxImageHeight": 4100,
 "maxImageWidth": 15000,
 "maxRecordCount": 1,
 "maxDownloadImageCount": 0,
 "maxMosaicImageCount": 1000,
 "allowRasterFunction": false,
 "rasterFunctionInfos": [
  {
   "name": "None",
   "description": "A No-Op Function.",
   "help": ""
  }
 ],
 "rasterTypeInfos": [
  {
   "name": "Raster Dataset",
   "description": "Supports all ArcGIS Raster Datasets",
   "help": ""
  }
 ],
 "mensurationCapabilities": "Basic",
 "hasHistograms": false,
 "hasColormap": false,
 "hasRasterAttributeTable": false,
 "minScale": 0,
 "maxScale": 0,
 "exportTilesAllowed": false,
 "hasMultidimensions": false,
 "supportsStatistics": true,
 "supportsAdvancedQueries": true,
 "editFieldsInfo": null,
 "ownershipBasedAccessControlForRasters": null,
 "allowComputeTiePoints": false,
 "useStandardizedQueries": true,
 "advancedQueryCapabilities": {
  "useStandardizedQueries": true,
  "supportsStatistics": true,
  "supportsOrderBy": true,
  "supportsDistinct": true,
  "supportsPagination": true
 },
 "spatialReference": {
  "wkid": 102100,
  "latestWkid": 3857
 }
}
