View In:
ArcGIS JavaScript
ArcGIS Online map viewer
Google Earth
ArcMap
ArcGIS Explorer
View Footprint In:
ArcGIS Online map viewer
Service Description:
Map Name: LPI_Imagery_Best
Legend
All Layers and Tables
Dynamic Legend
Dynamic All Layers
Layers:
Description: Imagery map of NSW showing satellite imagery, 50cm standard coverage imagery and high resolution urban and project imagery.
Metadata_link https://sdi.nsw.gov.au/nswsdi/catalog/search/resource/details.page?uuid=%7BA9550CB1-5908-4A47-936F-64AE50405DF7%7D
Copyright Text: © Department of Finance, Services & Innovation 2018
Spatial Reference:
102100
(3857)
Single Fused Map Cache: true
Tile Info:
- Height: 256
- Width: 256
- DPI: 96
-
Levels of Detail: 24
-
Level ID: 1
[ Start Tile, End Tile ]
- Resolution: 78271.5169639999
- Scale: 2.95828763795777E8
-
Level ID: 2
[ Start Tile, End Tile ]
- Resolution: 39135.7584820001
- Scale: 1.47914381897889E8
-
Level ID: 3
[ Start Tile, End Tile ]
- Resolution: 19567.8792409999
- Scale: 7.3957190948944E7
-
Level ID: 4
[ Start Tile, End Tile ]
- Resolution: 9783.93962049996
- Scale: 3.6978595474472E7
-
Level ID: 5
[ Start Tile, End Tile ]
- Resolution: 4891.96981024998
- Scale: 1.8489297737236E7
- Format: MIXED
- Compression Quality: 75.0
- Origin: X: -2.0037508342787E7
Y: 2.0037508342787E7
- Spatial Reference: 102100
(3857)
Initial Extent:
XMin: 15300000
YMin: -5070000
XMax: 17810000
YMax: -2950000
Spatial Reference: 102100
Full Extent:
XMin: 1.56804174085E7
YMin: -4514304.0702
XMax: 1.77320758585E7
YMax: -3259700.6202
Spatial Reference: 102100
Units: esriMeters
Supported Image Format Types: PNG32,PNG24,PNG,JPG,DIB,TIFF,EMF,PS,PDF,GIF,SVG,SVGZ,BMP
Document Info:
Title: LPI_Imagery_Best
Author: DFSI Spatial Services NSW
Comments: Imagery map of NSW showing satellite imagery, 50cm standard coverage imagery and high resolution urban and project imagery.
Progressively from scales larger than 1:150,000 higher resolution imagery overlays lower resolution imagery and most recent imagery overlays older imagery within each resolution.
This service includes external imagery sourced from © AAM 2011,2012; © Sinclair Knight Merz 2002,2006,2009; © SPOT image 2005
Subject: LPI web mercator map service document.
Category:
Keywords: DFSI Spatial Services NSW
AntialiasingMode: None
TextAntialiasingMode: Force
Supports Dynamic Layers: true
Resampling: true
MaxRecordCount: 1000
MaxImageHeight: 4096
MaxImageWidth: 4096
Supported Query Formats: JSON, AMF, geoJSON
Min Scale: 5.91657527591555E8
Max Scale: 282.124294
Supports Datum Transformation: true
Child Resources:
Info
Dynamic Layer
Supported Operations:
Export Map
Identify
QueryDomains
Find
Return Updates
Generate KML