View In:
ArcGIS JavaScript
ArcGIS Online map viewer
Google Earth
ArcMap
View Footprint In:
ArcGIS Online map viewer
Service Description: This Image Service is published to allow the identify function forImagery to respond correctly.This service is not used for Imagery visualisation as Images do not blend with each other and some Images will not show due to using the ECW format.
Name: Imagery/Best_By_Res_Date
Description: This Image Service is published to allow the identify function forImagery to respond correctly.This service is not used for Imagery visualisation as Images do not blend with each other and some Images will not show due to using the ECW format.
Single Fused Map Cache: false
Extent:
XMin: 1.56804174085E7
YMin: -4514304.0702
XMax: 1.77320758585E7
YMax: -3259700.6202
Spatial Reference: 102100
(3857)
Initial Extent:
XMin: 1.56804174085E7
YMin: -4514304.0702
XMax: 1.77320758585E7
YMax: -3259700.6202
Spatial Reference: 102100
(3857)
Full Extent:
XMin: 1.56804174085E7
YMin: -4514304.0702
XMax: 1.77320758585E7
YMax: -3259700.6202
Spatial Reference: 102100
(3857)
Pixel Size X: 0.04999999999999998
Pixel Size Y: 0.05000000000000001
Band Count: 3
Pixel Type: U8
RasterFunction Infos: {"name":"None","description":"A No-Op Function.","help":""}
Mensuration Capabilities: Basic
Has Histograms: false
Has Colormap: false
Has Multi Dimensions : false
Rendering Rule:
Min Scale: 0
Max Scale: 0
Copyright Text:
Service Data Type: esriImageServiceDataTypeProcessed
Min Values: N/A
Max Values: N/A
Mean Values: N/A
Standard Deviation Values: N/A
Object ID Field: OBJECTID
Fields:
-
OBJECTID
(
type: esriFieldTypeOID
, alias: OBJECTID
)
-
Shape
(
type: esriFieldTypeGeometry
, alias: Shape
)
-
Name
(
type: esriFieldTypeString
, alias: Name
, length: 50
)
-
MinPS
(
type: esriFieldTypeDouble
, alias: MinPS
)
-
MaxPS
(
type: esriFieldTypeDouble
, alias: MaxPS
)
-
Category
(
type: esriFieldTypeInteger
, alias: Category
)
-
BlockName
(
type: esriFieldTypeString
, alias: BlockName
, length: 50
)
-
BlockType
(
type: esriFieldTypeString
, alias: BlockType
, length: 50
)
-
BlockStartDate
(
type: esriFieldTypeDate
, alias: BlockStartDate
, length: 8
)
-
BlockEndDate
(
type: esriFieldTypeDate
, alias: BlockEndDate
, length: 8
)
-
BestByResDate
(
type: esriFieldTypeInteger
, alias: BestByResDate
)
-
BlockID
(
type: esriFieldTypeString
, alias: BlockID
, length: 80
)
-
BandTypes
(
type: esriFieldTypeString
, alias: BandTypes
, length: 20
)
-
MosaicStartDate
(
type: esriFieldTypeDate
, alias: MosaicStartDate
, length: 8
)
-
MosaicEndDate
(
type: esriFieldTypeDate
, alias: MosaicEndDate
, length: 8
)
Default Mosaic Method: ByAttribute
Allowed Mosaic Methods: ByAttribute
SortField: BestByResDate
SortValue: 0
Mosaic Operator: First
Default Compression Quality: 75
Default Resampling Method: Bilinear
Max Record Count: 1
Max Image Height: 4100
Max Image Width: 15000
Max Download Image Count: 0
Max Mosaic Image Count: 1000
Allow Raster Function: false
Allow Compute TiePoints: false
Supports Statistics: true
Supports Advanced Queries: true
Use StandardizedQueries: true
Raster Type Infos:
Name: Raster Dataset
Description: Supports all ArcGIS Raster Datasets
Help:
Has Raster Attribute Table: false
Edit Fields Info: null
Ownership Based AccessControl For Rasters: null
Child Resources:
Info
Key Properties
Legend
MultiDimensionalInfo
rasterFunctionInfos
Supported Operations:
Export Image
Query
Identify
Measure
Compute Histograms
Compute Statistics Histograms
Get Samples
Compute Class Statistics